BEGIN:VCALENDAR
VERSION:2.0
PRODID:-//Aguerre SRL - ECPv6.15.18//NONSGML v1.0//EN
CALSCALE:GREGORIAN
METHOD:PUBLISH
X-WR-CALNAME:Aguerre SRL
X-ORIGINAL-URL:https://www.aguerresrl.com.ar
X-WR-CALDESC:Eventos para Aguerre SRL
REFRESH-INTERVAL;VALUE=DURATION:PT1H
X-Robots-Tag:noindex
X-PUBLISHED-TTL:PT1H
BEGIN:VTIMEZONE
TZID:America/Argentina/Buenos_Aires
BEGIN:STANDARD
TZOFFSETFROM:-0300
TZOFFSETTO:-0300
TZNAME:-03
DTSTART:20230101T000000
END:STANDARD
END:VTIMEZONE
BEGIN:VEVENT
DTSTART;TZID=America/Argentina/Buenos_Aires:20240801T140000
DTEND;TZID=America/Argentina/Buenos_Aires:20240801T180000
DTSTAMP:20260423T002605
CREATED:20240611T141031Z
LAST-MODIFIED:20240806T162750Z
UID:2749-1722520800-1722535200@www.aguerresrl.com.ar
SUMMARY:Remate Especial de Reproductores 2024
DESCRIPTION:1 de Agosto de 2024 \nSalen a venta 90 Toros Braford de: \n\nAgropecuaria Pajas Coloradas S.A\nPontezuela S.A\n\nLOTES A VENTA\n﻿﻿﻿
URL:https://www.aguerresrl.com.ar/event/remate-especial-de-reproductores-2024/
LOCATION:Sociedad Rural de Mercedes\, Av. Tanasio Aguirre\, Mercedes\, Corrientes\, 3470\, Argentina
CATEGORIES:Históricos Hacienda
ATTACH;FMTTYPE=image/jpeg:https://www.aguerresrl.com.ar/wp-content/uploads/2024/06/Post_-_Remate_1_de_Agosto_2024.jpg
ORGANIZER;CN="Aguerre SRL":MAILTO:info@www.aguerresrl.com.ar
END:VEVENT
END:VCALENDAR