BEGIN:VCALENDAR
VERSION:2.0
PRODID:-//Aguerre SRL - ECPv6.15.18//NONSGML v1.0//EN
CALSCALE:GREGORIAN
METHOD:PUBLISH
X-ORIGINAL-URL:https://www.aguerresrl.com.ar
X-WR-CALDESC:Eventos para Aguerre SRL
REFRESH-INTERVAL;VALUE=DURATION:PT1H
X-Robots-Tag:noindex
X-PUBLISHED-TTL:PT1H
BEGIN:VTIMEZONE
TZID:America/Argentina/Buenos_Aires
BEGIN:STANDARD
TZOFFSETFROM:-0300
TZOFFSETTO:-0300
TZNAME:-03
DTSTART:20230101T000000
END:STANDARD
END:VTIMEZONE
BEGIN:VEVENT
DTSTART;TZID=America/Argentina/Buenos_Aires:20240613T140000
DTEND;TZID=America/Argentina/Buenos_Aires:20240613T190000
DTSTAMP:20260423T043405
CREATED:20240514T151842Z
LAST-MODIFIED:20240702T163724Z
UID:2742-1718287200-1718305200@www.aguerresrl.com.ar
SUMMARY:71° Remate por Pantalla
DESCRIPTION:71° Remate por Pantalla \nJueves 13 de junio de 2024 – 14hs \nSalen a venta 3200 cabezas \nRemate por televisión & Internet: Transmisión en vivo elrural.com y por http://www.rematesdellitoral.com.ar/index2.php \n71° Remate por Pantalla \n 
URL:https://www.aguerresrl.com.ar/event/71-remate-por-pantalla/
LOCATION:Sociedad Rural de Mercedes\, Av. Tanasio Aguirre\, Mercedes\, Corrientes\, 3470\, Argentina
CATEGORIES:Históricos Hacienda
ATTACH;FMTTYPE=image/jpeg:https://www.aguerresrl.com.ar/wp-content/uploads/2024/05/WhatsApp-Image-2024-06-12-at-08.10.09.jpeg
ORGANIZER;CN="Aguerre SRL":MAILTO:info@www.aguerresrl.com.ar
END:VEVENT
END:VCALENDAR