BEGIN:VCALENDAR
VERSION:2.0
PRODID:-//Aguerre SRL - ECPv6.15.18//NONSGML v1.0//EN
CALSCALE:GREGORIAN
METHOD:PUBLISH
X-ORIGINAL-URL:https://www.aguerresrl.com.ar
X-WR-CALDESC:Eventos para Aguerre SRL
REFRESH-INTERVAL;VALUE=DURATION:PT1H
X-Robots-Tag:noindex
X-PUBLISHED-TTL:PT1H
BEGIN:VTIMEZONE
TZID:America/Argentina/Buenos_Aires
BEGIN:STANDARD
TZOFFSETFROM:-0300
TZOFFSETTO:-0300
TZNAME:-03
DTSTART:20220101T000000
END:STANDARD
END:VTIMEZONE
BEGIN:VEVENT
DTSTART;TZID=America/Argentina/Buenos_Aires:20230830T140000
DTEND;TZID=America/Argentina/Buenos_Aires:20230830T180000
DTSTAMP:20260423T155632
CREATED:20230724T130434Z
LAST-MODIFIED:20231129T124822Z
UID:2611-1693404000-1693418400@www.aguerresrl.com.ar
SUMMARY:Remate Especial - 260 Reproductores
DESCRIPTION:30 de Agosto de 2023 \nSalen a venta 200 Reproductores – Braford\, Hereford y Búfalos de: \nDESCARGAR ORDEN DE VENTA AQUÍ\n\n  \n\n\n\n\n\n\n\n\n\n  \nLA MORENITA\n\nSALENTEIN\n﻿ \n\nBUENA ESPERANZA\n﻿ \n\nRINCÓN DEL GUAYAIBI\n﻿ \n\nMI QUERENCIA\n﻿ \n\nMARÍA TERESA\n﻿ \n\nRADI S.A\n﻿ \n\nESTANCIA AGUACERITOS S.R.L\n﻿
URL:https://www.aguerresrl.com.ar/event/remate-especial-260-reproductores/
LOCATION:Sociedad Rural de Mercedes\, Av. Tanasio Aguirre\, Mercedes\, Corrientes\, 3470\, Argentina
CATEGORIES:Históricos Hacienda
ATTACH;FMTTYPE=image/jpeg:https://www.aguerresrl.com.ar/wp-content/uploads/2023/07/WhatsApp-Image-2023-08-09-at-10.42.01.jpeg
ORGANIZER;CN="Aguerre SRL":MAILTO:info@www.aguerresrl.com.ar
END:VEVENT
END:VCALENDAR