BEGIN:VCALENDAR
VERSION:2.0
PRODID:-//Aguerre SRL - ECPv6.15.18//NONSGML v1.0//EN
CALSCALE:GREGORIAN
METHOD:PUBLISH
X-WR-CALNAME:Aguerre SRL
X-ORIGINAL-URL:https://www.aguerresrl.com.ar
X-WR-CALDESC:Eventos para Aguerre SRL
REFRESH-INTERVAL;VALUE=DURATION:PT1H
X-Robots-Tag:noindex
X-PUBLISHED-TTL:PT1H
BEGIN:VTIMEZONE
TZID:America/Argentina/Buenos_Aires
BEGIN:STANDARD
TZOFFSETFROM:-0300
TZOFFSETTO:-0300
TZNAME:-03
DTSTART:20210101T000000
END:STANDARD
END:VTIMEZONE
BEGIN:VEVENT
DTSTART;TZID=America/Argentina/Buenos_Aires:20221220T170000
DTEND;TZID=America/Argentina/Buenos_Aires:20221220T190000
DTSTAMP:20260424T032339
CREATED:20221212T181941Z
LAST-MODIFIED:20221221T151119Z
UID:2504-1671555600-1671562800@www.aguerresrl.com.ar
SUMMARY:58° Remate por Pantalla
DESCRIPTION:Martes 20 de diciembre de 2022 – 17hs \nSalen a venta 2000 cabezas \nRemate por televisión & Internet: Transmisión en vivo CANAL RURAL y por http://www.rematesdellitoral.com.ar/index2.php
URL:https://www.aguerresrl.com.ar/event/58-remate-por-pantalla/
LOCATION:Sociedad Rural de Mercedes\, Av. Tanasio Aguirre\, Mercedes\, Corrientes\, 3470\, Argentina
CATEGORIES:Históricos Hacienda
ATTACH;FMTTYPE=image/jpeg:https://www.aguerresrl.com.ar/wp-content/uploads/2022/12/WhatsApp-Image-2022-12-12-at-15.13.12.jpeg
ORGANIZER;CN="Aguerre SRL":MAILTO:info@www.aguerresrl.com.ar
END:VEVENT
BEGIN:VEVENT
DTSTART;TZID=America/Argentina/Buenos_Aires:20221220T200000
DTEND;TZID=America/Argentina/Buenos_Aires:20221220T213000
DTSTAMP:20260424T032339
CREATED:20221212T181117Z
LAST-MODIFIED:20221221T151123Z
UID:2501-1671566400-1671571800@www.aguerresrl.com.ar
SUMMARY:De a Caballo Remate 2022
DESCRIPTION:20 de Diciembre de 2022\, desde las 20hs en la Sociedad Rural de Mercedes. \nModalidad: Presencial y streaming por www.rematesdellitoral.com.ar \nLos caballos se pueden probar desde las 18 a 19.45hs. \n\nLista de reproducción de videos\n \n\nOrden de Ventas – Descargar AQUÍ\nDAC_Orden de ventas_compressed
URL:https://www.aguerresrl.com.ar/event/de-a-caballo-remate-2022/
LOCATION:Sociedad Rural de Mercedes\, Av. Tanasio Aguirre\, Mercedes\, Corrientes\, 3470\, Argentina
CATEGORIES:Históricos Hacienda
ATTACH;FMTTYPE=image/jpeg:https://www.aguerresrl.com.ar/wp-content/uploads/2022/12/DE-A-CABALLO_Flyer-01-scaled.jpg
ORGANIZER;CN="Aguerre SRL":MAILTO:info@www.aguerresrl.com.ar
END:VEVENT
END:VCALENDAR