BEGIN:VCALENDAR
VERSION:2.0
PRODID:-//Aguerre SRL - ECPv6.15.18//NONSGML v1.0//EN
CALSCALE:GREGORIAN
METHOD:PUBLISH
X-WR-CALNAME:Aguerre SRL
X-ORIGINAL-URL:https://www.aguerresrl.com.ar
X-WR-CALDESC:Eventos para Aguerre SRL
REFRESH-INTERVAL;VALUE=DURATION:PT1H
X-Robots-Tag:noindex
X-PUBLISHED-TTL:PT1H
BEGIN:VTIMEZONE
TZID:America/Argentina/Buenos_Aires
BEGIN:STANDARD
TZOFFSETFROM:-0300
TZOFFSETTO:-0300
TZNAME:-03
DTSTART:20210101T000000
END:STANDARD
END:VTIMEZONE
BEGIN:VEVENT
DTSTART;TZID=America/Argentina/Buenos_Aires:20220728T140000
DTEND;TZID=America/Argentina/Buenos_Aires:20220728T180000
DTSTAMP:20260424T100249
CREATED:20220718T135241Z
LAST-MODIFIED:20220802T130116Z
UID:2434-1659016800-1659031200@www.aguerresrl.com.ar
SUMMARY:Remate Especial de Reproductores 2022
DESCRIPTION:VER REMATE AQUÍ \nDESCARGAR ORDEN DE VENTAS \n28 de Julio de 2022 \nSalen a venta 90 Toros Braford de: \n\nAgropecuaria Pajas Coloradas S.A\nSiete Hermanos S.A\nPontezuela S.A\n\nLOTES A VENTA\n \nVer lista de reproducción completa AQUÍ
URL:https://www.aguerresrl.com.ar/event/remate-especial-de-reproductores-2022/
LOCATION:Sociedad Rural de Mercedes\, Av. Tanasio Aguirre\, Mercedes\, Corrientes\, 3470\, Argentina
CATEGORIES:Históricos Hacienda
ATTACH;FMTTYPE=image/jpeg:https://www.aguerresrl.com.ar/wp-content/uploads/2022/07/Feed-Remate-28-de-Julio.jpg
ORGANIZER;CN="Aguerre SRL":MAILTO:info@www.aguerresrl.com.ar
END:VEVENT
END:VCALENDAR