BEGIN:VCALENDAR
VERSION:2.0
PRODID:-//Aguerre SRL - ECPv6.15.18//NONSGML v1.0//EN
CALSCALE:GREGORIAN
METHOD:PUBLISH
X-WR-CALNAME:Aguerre SRL
X-ORIGINAL-URL:https://www.aguerresrl.com.ar
X-WR-CALDESC:Eventos para Aguerre SRL
REFRESH-INTERVAL;VALUE=DURATION:PT1H
X-Robots-Tag:noindex
X-PUBLISHED-TTL:PT1H
BEGIN:VTIMEZONE
TZID:America/Argentina/Buenos_Aires
BEGIN:STANDARD
TZOFFSETFROM:-0300
TZOFFSETTO:-0300
TZNAME:-03
DTSTART:20200101T000000
END:STANDARD
END:VTIMEZONE
BEGIN:VEVENT
DTSTART;TZID=America/Argentina/Buenos_Aires:20210730T140000
DTEND;TZID=America/Argentina/Buenos_Aires:20210730T180000
DTSTAMP:20260425T010522
CREATED:20210723T145526Z
LAST-MODIFIED:20220602T152503Z
UID:1980-1627653600-1627668000@www.aguerresrl.com.ar
SUMMARY:Remate Especial de Reproductores
DESCRIPTION:30 de Julio de 2021 \nSalen a venta 90 Toros Braford – Hereford de: \n\nAgropecuaria Pajas Coloradas S.A\nSiete Hermanos S.A\nPontezuela S.A\nMi Querencia S.R.L\n\n40 Vaquillonas Preñadas de cabañas invitadas.
URL:https://www.aguerresrl.com.ar/event/remate-especial-de-reproductores/
LOCATION:Sociedad Rural de Mercedes\, Av. Tanasio Aguirre\, Mercedes\, Corrientes\, 3470\, Argentina
CATEGORIES:Históricos Hacienda
ATTACH;FMTTYPE=image/jpeg:https://www.aguerresrl.com.ar/wp-content/uploads/2021/07/WhatsApp-Image-2021-07-23-at-11.46.31-EDICION.jpg
ORGANIZER;CN="Aguerre SRL":MAILTO:info@www.aguerresrl.com.ar
END:VEVENT
END:VCALENDAR