BEGIN:VCALENDAR
VERSION:2.0
PRODID:-//Aguerre SRL - ECPv6.15.18//NONSGML v1.0//EN
CALSCALE:GREGORIAN
METHOD:PUBLISH
X-WR-CALNAME:Aguerre SRL
X-ORIGINAL-URL:https://www.aguerresrl.com.ar
X-WR-CALDESC:Eventos para Aguerre SRL
REFRESH-INTERVAL;VALUE=DURATION:PT1H
X-Robots-Tag:noindex
X-PUBLISHED-TTL:PT1H
BEGIN:VTIMEZONE
TZID:America/Argentina/Buenos_Aires
BEGIN:STANDARD
TZOFFSETFROM:-0300
TZOFFSETTO:-0300
TZNAME:-03
DTSTART:20240101T000000
END:STANDARD
END:VTIMEZONE
BEGIN:VEVENT
DTSTART;TZID=America/Argentina/Buenos_Aires:20250828T140000
DTEND;TZID=America/Argentina/Buenos_Aires:20250828T170000
DTSTAMP:20260422T055911
CREATED:20250811T143120Z
LAST-MODIFIED:20250918T131500Z
UID:2857-1756389600-1756400400@www.aguerresrl.com.ar
SUMMARY:Remate Especial - 120 Reproductores
DESCRIPTION:28 de Agosto de 2025 \nSalen a venta 120 Reproductores – Braford\, Hereford y Búfalos \nLOTES A VENTA\nGuayaibi\n \nSalentein\n \nMi Querencia\n \nLa Concepción\n \nLa Morenita\n \nRadi SA
URL:https://www.aguerresrl.com.ar/event/remate-especial-120-reproductores/
LOCATION:Sociedad Rural de Mercedes\, Av. Tanasio Aguirre\, Mercedes\, Corrientes\, 3470\, Argentina
CATEGORIES:Históricos Hacienda
ATTACH;FMTTYPE=image/jpeg:https://www.aguerresrl.com.ar/wp-content/uploads/2025/08/Feed-Remate-28-de-Agosto-2025.jpg
ORGANIZER;CN="Aguerre SRL":MAILTO:info@www.aguerresrl.com.ar
END:VEVENT
BEGIN:VEVENT
DTSTART;TZID=America/Argentina/Buenos_Aires:20250828T170000
DTEND;TZID=America/Argentina/Buenos_Aires:20250828T200000
DTSTAMP:20260422T055911
CREATED:20250811T143336Z
LAST-MODIFIED:20250918T131454Z
UID:2861-1756400400-1756411200@www.aguerresrl.com.ar
SUMMARY:81° Remate por Pantalla
DESCRIPTION:80° Remate por Pantalla \n28 de Agosto de 2025 – 17hs \nRemate 45° aniversario Aguerre SRL \nRemate por televisión & Internet: Transmisión en vivo elrural.com y por http://www.rematesdellitoral.com.ar/index2.php \n  \n 
URL:https://www.aguerresrl.com.ar/event/81-remate-por-pantalla/
LOCATION:Sociedad Rural de Mercedes\, Av. Tanasio Aguirre\, Mercedes\, Corrientes\, 3470\, Argentina
CATEGORIES:Históricos Hacienda
ATTACH;FMTTYPE=image/jpeg:https://www.aguerresrl.com.ar/wp-content/uploads/2025/08/WhatsApp-Image-2025-08-11-at-07.35.10.jpeg
ORGANIZER;CN="Aguerre SRL":MAILTO:info@www.aguerresrl.com.ar
END:VEVENT
END:VCALENDAR