BEGIN:VCALENDAR
VERSION:2.0
PRODID:-//Aguerre SRL - ECPv6.15.18//NONSGML v1.0//EN
CALSCALE:GREGORIAN
METHOD:PUBLISH
X-ORIGINAL-URL:https://www.aguerresrl.com.ar
X-WR-CALDESC:Eventos para Aguerre SRL
REFRESH-INTERVAL;VALUE=DURATION:PT1H
X-Robots-Tag:noindex
X-PUBLISHED-TTL:PT1H
BEGIN:VTIMEZONE
TZID:America/Argentina/Buenos_Aires
BEGIN:STANDARD
TZOFFSETFROM:-0300
TZOFFSETTO:-0300
TZNAME:-03
DTSTART:20230101T000000
END:STANDARD
END:VTIMEZONE
BEGIN:VEVENT
DTSTART;TZID=America/Argentina/Buenos_Aires:20240404T170000
DTEND;TZID=America/Argentina/Buenos_Aires:20240404T200000
DTSTAMP:20260423T043055
CREATED:20240404T164224Z
LAST-MODIFIED:20240417T122532Z
UID:2730-1712250000-1712260800@www.aguerresrl.com.ar
SUMMARY:69° Remate por Pantalla
DESCRIPTION:69° Remate por Pantalla \nJueves 4 de abril de 2024 – 17hs \nSalen a venta 2000 cabezas. Además\, 20 Potros y 350 Ovejas Ideal Nuevas \nRemate por televisión & Internet: Transmisión en vivo elrural.com y por http://www.rematesdellitoral.com.ar/index2.php \n \n 
URL:https://www.aguerresrl.com.ar/event/69-remate-por-pantalla/
LOCATION:Sociedad Rural de Mercedes\, Av. Tanasio Aguirre\, Mercedes\, Corrientes\, 3470\, Argentina
CATEGORIES:Históricos Hacienda
ATTACH;FMTTYPE=image/jpeg:https://www.aguerresrl.com.ar/wp-content/uploads/2024/04/WhatsApp-Image-2024-04-01-at-7.48.32-PM.jpeg
ORGANIZER;CN="Aguerre SRL":MAILTO:info@www.aguerresrl.com.ar
END:VEVENT
END:VCALENDAR